BEGIN:VCALENDAR
VERSION:2.0
PRODID:-//Duiken met plezier, voor iedereen! - ECPv6.15.18//NONSGML v1.0//EN
CALSCALE:GREGORIAN
METHOD:PUBLISH
X-ORIGINAL-URL:https://www.aquabubblemakerclub.nl
X-WR-CALDESC:Evenementen voor Duiken met plezier, voor iedereen!
REFRESH-INTERVAL;VALUE=DURATION:PT1H
X-Robots-Tag:noindex
X-PUBLISHED-TTL:PT1H
BEGIN:VTIMEZONE
TZID:Europe/Amsterdam
BEGIN:DAYLIGHT
TZOFFSETFROM:+0100
TZOFFSETTO:+0200
TZNAME:CEST
DTSTART:20250330T010000
END:DAYLIGHT
BEGIN:STANDARD
TZOFFSETFROM:+0200
TZOFFSETTO:+0100
TZNAME:CET
DTSTART:20251026T010000
END:STANDARD
BEGIN:DAYLIGHT
TZOFFSETFROM:+0100
TZOFFSETTO:+0200
TZNAME:CEST
DTSTART:20260329T010000
END:DAYLIGHT
BEGIN:STANDARD
TZOFFSETFROM:+0200
TZOFFSETTO:+0100
TZNAME:CET
DTSTART:20261025T010000
END:STANDARD
BEGIN:DAYLIGHT
TZOFFSETFROM:+0100
TZOFFSETTO:+0200
TZNAME:CEST
DTSTART:20270328T010000
END:DAYLIGHT
BEGIN:STANDARD
TZOFFSETFROM:+0200
TZOFFSETTO:+0100
TZNAME:CET
DTSTART:20271031T010000
END:STANDARD
END:VTIMEZONE
BEGIN:VEVENT
DTSTART;TZID=Europe/Amsterdam:20261018T093000
DTEND;TZID=Europe/Amsterdam:20261018T150000
DTSTAMP:20260421T151514
CREATED:20260104T170900Z
LAST-MODIFIED:20260104T170900Z
UID:4445-1792315800-1792335600@www.aquabubblemakerclub.nl
SUMMARY:De Beldert
DESCRIPTION:Je moet ingelogd zijn om deze inhoud te kunnen bekijken. Alsjeblieft Login.
URL:https://www.aquabubblemakerclub.nl/evenement/de-beldert/
LOCATION:de bedert\, Zoelense Zandweg 3\, Lienden\, 4011LW
CATEGORIES:Buitenwater,Evenement
ATTACH;FMTTYPE=image/jpeg:https://www.aquabubblemakerclub.nl/wp-content/uploads/f4bd46_58ccd4c28fdc49e79832323ee8b901c5mv2.jpg
END:VEVENT
END:VCALENDAR